BEGIN:VCALENDAR
VERSION:2.0
PRODID:-//Payette Avalanche Center - ECPv6.15.20//NONSGML v1.0//EN
CALSCALE:GREGORIAN
METHOD:PUBLISH
X-ORIGINAL-URL:https://payetteavalanche.org
X-WR-CALDESC:Events for Payette Avalanche Center
REFRESH-INTERVAL;VALUE=DURATION:PT1H
X-Robots-Tag:noindex
X-PUBLISHED-TTL:PT1H
BEGIN:VTIMEZONE
TZID:America/Boise
BEGIN:DAYLIGHT
TZOFFSETFROM:-0700
TZOFFSETTO:-0600
TZNAME:MDT
DTSTART:20250309T090000
END:DAYLIGHT
BEGIN:STANDARD
TZOFFSETFROM:-0600
TZOFFSETTO:-0700
TZNAME:MST
DTSTART:20251102T080000
END:STANDARD
BEGIN:DAYLIGHT
TZOFFSETFROM:-0700
TZOFFSETTO:-0600
TZNAME:MDT
DTSTART:20260308T090000
END:DAYLIGHT
BEGIN:STANDARD
TZOFFSETFROM:-0600
TZOFFSETTO:-0700
TZNAME:MST
DTSTART:20261101T080000
END:STANDARD
BEGIN:DAYLIGHT
TZOFFSETFROM:-0700
TZOFFSETTO:-0600
TZNAME:MDT
DTSTART:20270314T090000
END:DAYLIGHT
BEGIN:STANDARD
TZOFFSETFROM:-0600
TZOFFSETTO:-0700
TZNAME:MST
DTSTART:20271107T080000
END:STANDARD
END:VTIMEZONE
BEGIN:VEVENT
DTSTART;VALUE=DATE:20260510
DTEND;VALUE=DATE:20260515
DTSTAMP:20260424T130149
CREATED:20260423T024748Z
LAST-MODIFIED:20260423T024748Z
UID:7435-1778371200-1778803199@payetteavalanche.org
SUMMARY:Idaho Gives 2026
DESCRIPTION:Idaho Gives 2026 – we are a part of this effort! Help us become a Type 1 Avalanche center and bring you 7 day a week avalanche forecasting. May 10th – May 14th. Thank you for your donations. \nThe “Friends” is a non-profit organization\, with 501(c)(3) status\, formed in 1999. Our mission is to: provide a community-based forum to share avalanche information\, to operate and maintain beacon basin training facilities in the area\, to provide basic avalanche education to all types of winter recreationists\, and to be a partner to the Payette Avalanche Center in the West Central Mountains of Idaho. \nThe “Friends” believe education leads to awareness\, and awareness leads to safe backcountry travel. It is our desire to foster the community and government support that will allow the P.A.C. to continue to grow and provide individuals the tools and information necessary for safe backcountry recreation. \nIf you would like to get more involved email us to find out how\, we need volunteer board members\, and folks to help us out with our outreach\, classes and fundraising. \nThis year will be a challenge. The Forest Service is experiencing dramatic changes. Its past years’ support for the Payette Avalanche Center is not assured. That places an even bigger burden on the Friends to keep the good work going. If you care about keeping safe\, keeping your friends safe\, while winter recreating\, please consider a contribution to FPAC.
URL:https://payetteavalanche.org/classes-events/idaho-gives-2026/
CATEGORIES:Events,Fundraising
ATTACH;FMTTYPE=image/jpeg:https://payetteavalanche.org/wp-content/uploads/2026/04/Idaho-Gives-2026.jpg
ORGANIZER;CN="Friends of the PAC":MAILTO:payetteavifriends@gmail.com
END:VEVENT
END:VCALENDAR