BEGIN:VCALENDAR
VERSION:2.0
PRODID:-//Payette Avalanche Center - ECPv6.15.20//NONSGML v1.0//EN
CALSCALE:GREGORIAN
METHOD:PUBLISH
X-ORIGINAL-URL:https://payetteavalanche.org
X-WR-CALDESC:Events for Payette Avalanche Center
REFRESH-INTERVAL;VALUE=DURATION:PT1H
X-Robots-Tag:noindex
X-PUBLISHED-TTL:PT1H
BEGIN:VTIMEZONE
TZID:America/Boise
BEGIN:DAYLIGHT
TZOFFSETFROM:-0700
TZOFFSETTO:-0600
TZNAME:MDT
DTSTART:20230312T090000
END:DAYLIGHT
BEGIN:STANDARD
TZOFFSETFROM:-0600
TZOFFSETTO:-0700
TZNAME:MST
DTSTART:20231105T080000
END:STANDARD
BEGIN:DAYLIGHT
TZOFFSETFROM:-0700
TZOFFSETTO:-0600
TZNAME:MDT
DTSTART:20240310T090000
END:DAYLIGHT
BEGIN:STANDARD
TZOFFSETFROM:-0600
TZOFFSETTO:-0700
TZNAME:MST
DTSTART:20241103T080000
END:STANDARD
BEGIN:DAYLIGHT
TZOFFSETFROM:-0700
TZOFFSETTO:-0600
TZNAME:MDT
DTSTART:20250309T090000
END:DAYLIGHT
BEGIN:STANDARD
TZOFFSETFROM:-0600
TZOFFSETTO:-0700
TZNAME:MST
DTSTART:20251102T080000
END:STANDARD
END:VTIMEZONE
BEGIN:VEVENT
DTSTART;TZID=America/Boise:20240502T160000
DTEND;TZID=America/Boise:20240502T190000
DTSTAMP:20260421T073029
CREATED:20240422T222428Z
LAST-MODIFIED:20240422T222428Z
UID:6682-1714665600-1714676400@payetteavalanche.org
SUMMARY:Support the PAC on Idaho Gives!
DESCRIPTION:The Friends of the Payette Avalanche Center are participating in Idaho Gives for the first time since 2021. Take a look at our giving page\, along with all the other great local nonprofits in our area and across the state. \nFPAC\, along with 30 other Valley County non-profits\, will have a booth at this year’s Idaho Gives Community Fair at the Ponderosa Center in downtown McCall. Bring the kids. There will be lots to do. 4-7pm May 2.
URL:https://payetteavalanche.org/classes-events/support-the-pac-on-idaho-gives/
LOCATION:Ponderosa Center Ludwig Terrace\, 1121 East Lake Street\, McCall\, ID\, 83638\, United States
CATEGORIES:Events,Fundraising
ORGANIZER;CN="Friends of the PAC":MAILTO:payetteavifriends@gmail.com
END:VEVENT
END:VCALENDAR